Workbook
Name ACTIVITYDATE: 'Judo Activity Log'!$A$9:$A$700
Name POINTCLASS: 'Judo Activity Log'!$B$9:$B$700
Name POINTSEARNED: 'Judo Activity Log'!$C$9:$C$700
Name POINTYEARS: 'Judo Activity Log'!$E$9:$E$700
Name RANKS: 'Promotion Requirements'!$A$5:$A$15
Name TIGANDPOINTS: 'Promotion Requirements'!$B$6:$I$13

Sheet User Guide
D1: Judo Activity Log and Point Summary User Guide
A3: Quick Guide
A5: Updates (091723)
A6: - Updates to this worksheet include adjusting the Activity Log Date limits (with alerts) to reduce errors.
A7: - In addition, brief messages on reducing errors and troubleshooting are present within the Activity Log and Point Summary.
A8: - Updated Activity categories and recognition for credit against promotion points required.
A9: - The User Guide, Activity Log and Class Points Calculator have been updated with basic instructions on worksheet use.
A11: Summary
A12: - This Workbook consists of Worksheets (also known as Tabs)
A13: - The Worksheets include the Activity Log, Point Summary, Class Point Calculator, Promotion Requirements and this User Guide.
A14: - The Activity Log is very important in keeping your judo records current as well as verifying activity points.
A15: - The Activity Log is applicable for all Senior ranks.
A16: - Any corrections must be made on the Activity Log only.
... A41: 2) Coaching Champion Competitors - List event, date, and location, Names of athletes you coached,
A42: number of wins and results of their division. Athletes must be members of USJA. | G42: pp
A43: 3) Shiai or Kata Competition - List event & date; Name of event host; Name of competitors and division result.
A44: 4) Officiating - List event, date, location/host, your role (Referee, Judge, Technical Support).
A46: Class Point Calculator Worksheet
A47: - This worksheet approximates points based on the number classes (not class hours) for a given time period.
A48: - The user will 1) Calculate points first per direction then; 2) Manually enter in the Activity Log.
A49: - Put a "1" in the cell for each day of the week you attend class on a regular basis. "1" = Class; "1" and/or "2" Classes you Teach.
A50: - The default for printing the Class Point Calculator tab is one page. One usually doesn't need to print this page.
A52: Promotion Requirements Worksheet
A53: - This worksheet tab is a reference for Time in Grade (TIG) and point requirements for Shodan through Hachidan,
A54: - There is general reference for Kudan and Judan noted.
A56: Activity Log Editing, Errors and Troubleshooting
A57: Editing
... A134: (END OF DOCUMENT)

Sheet Judo Activity Log
A1: Judo Activity Log (rev. 09/18/23) - Fill in all sections for activities in judo. The Point Summary tab will be updated automatically. - Refer to the User Guide Tab at the bottom left of this page if you have questions. PLEASE PROVIDE CLEAR ACTIVITY DESCRIPTION DETAILS. GUIDELINES AND EXAMPLES FOLLOW: 1) Attending or Hosting Clinics - List date of clinic, location of clinic, name of clinic host, clinic topic. 2) Coaching Champion Competitors - List event, date, and location, Names of athletes you coached, number of wins and results of their division. Athletes must be members of USJA. 3) Shiai or Kata Competition - List event & date, Name of event host, Name of competitors and division result. 4) Officiating - List event, date, location/host, your role (Referee, Judge, Technical Support). | F1: =IF(B7<1,0,((YEAR(TODAY())-YEAR(B7))*12)+(MONTH(TODAY())-MONTH(B7))+((DAY(TODAY())-DAY(B7))/30)) -> 0 | G1: TIG since last promotion (Months) | K1: =ROUNDDOWN(F2,0) -> 0 | L1: Years (integer)
F2: =F1/12 -> 0 | G2: TIG since last promotion (Years) | K2: =ROUNDDOWN((F2-K1)*12,0) -> 0 | L2: Months (integer)
F4: =IF(F2>=INDEX(TIGANDPOINTS,(MATCH(B6,RANKS,0)),7),"D",IF(F2>=INDEX(TIGANDPOINTS,(MATCH(B6,RANKS,0)),5),"C",IF(F2>=INDEX(TIGANDPOINTS,(MATCH(B6,RANKS,0)),3),"B",IF(F2>=INDEX(TIGANDPOINTS,(MATCH(B6,RANKS,0)),1),"A","Did Not Meet Standard")))) -> #N/A | G4: TIG Rank | H4: =IF(F2>=INDEX(TIGANDPOINTS,(MATCH(B6,RANKS,0)),7),"7",IF(F2>=INDEX(TIGANDPOINTS,(MATCH(B6,RANKS,0)),5),"5",IF(F2>=INDEX(TIGANDPOINTS,(MATCH(B6,RANKS,0)),3),"3",IF(F2>=INDEX(TIGANDPOINTS,(MATCH(B6,RANKS,0)),1),"1","1")))) -> #N/A
A5: Name | C5: NOTE - As you enter information into the Activity Log make sure not to type errors. - Error symbols are "##### and #REF!". The Point Summary can't update. - Review your Log entries and fix the errors. The Point Summary auto updates. | F5: =IF(ISERROR(INDEX(RANKS,(MATCH(B6,RANKS,0)+1))),"",INDEX(RANKS,(MATCH(B6,RANKS,0)+1)))
A6: Rank
A7: Rank Date
A8: Date (mm/dd/yyyy) | B8: Activity (Select From Drop-Down List) | C8: Points Earned | D8: Activity Description (Provide Details)
E9: =IF(A9>0,YEAR(A9),"") | F9: {=IF(ISNA(INDEX(POINTYEARS,MATCH(0,COUNTIF($F$8:F8,POINTYEARS),0))),"",INDEX(POINTYEARS,MATCH(0,COUNTIF($F$8:F8,POINTYEARS),0)))} | G9: =IF(AND(C9>0,A9=""),"Please enter a valid date.","") | I9: Shiai Tournaments
E10: =IF(A10>0,YEAR(A10),"") | F10: {=IF(ISNA(INDEX(POINTYEARS,MATCH(0,COUNTIF($F$8:F9,POINTYEARS),0))),"",INDEX(POINTYEARS,MATCH(0,COUNTIF($F$8:F9,POINTYEARS),0)))} | G10: =IF(AND(C10>0,A10=""),"Please enter a valid date.","") | I10: Kata Tournaments
E11: =IF(A11>0,YEAR(A11),"") | F11: {=IF(ISNA(INDEX(POINTYEARS,MATCH(0,COUNTIF($F$8:F10,POINTYEARS),0))),"",INDEX(POINTYEARS,MATCH(0,COUNTIF($F$8:F10,POINTYEARS),0)))} | G11: =IF(AND(C11>0,A11=""),"Please enter a valid date.","") | I11: Mini Tournaments
E12: =IF(A12>0,YEAR(A12),"") | F12: {=IF(ISNA(INDEX(POINTYEARS,MATCH(0,COUNTIF($F$8:F11,POINTYEARS),0))),"",INDEX(POINTYEARS,MATCH(0,COUNTIF($F$8:F11,POINTYEARS),0)))} | G12: =IF(AND(C12>0,A12=""),"Please enter a valid date.","") | I12: Clinic Attendance
E13: =IF(A13>0,YEAR(A13),"") | F13: {=IF(ISNA(INDEX(POINTYEARS,MATCH(0,COUNTIF($F$8:F12,POINTYEARS),0))),"",INDEX(POINTYEARS,MATCH(0,COUNTIF($F$8:F12,POINTYEARS),0)))} | G13: =IF(AND(C13>0,A13=""),"Please enter a valid date.","") | I13: Virtual Seminars
E14: =IF(A14>0,YEAR(A14),"") | F14: {=IF(ISNA(INDEX(POINTYEARS,MATCH(0,COUNTIF($F$8:F13,POINTYEARS),0))),"",INDEX(POINTYEARS,MATCH(0,COUNTIF($F$8:F13,POINTYEARS),0)))} | G14: =IF(AND(C14>0,A14=""),"Please enter a valid date.","") | I14: Class Attendance
E15: =IF(A15>0,YEAR(A15),"") | F15: {=IF(ISNA(INDEX(POINTYEARS,MATCH(0,COUNTIF($F$8:F14,POINTYEARS),0))),"",INDEX(POINTYEARS,MATCH(0,COUNTIF($F$8:F14,POINTYEARS),0)))} | G15: =IF(AND(C15>0,A15=""),"Please enter a valid date.","") | I15: Classes you Teach (thru 5D)
E16: =IF(A16>0,YEAR(A16),"") | F16: {=IF(ISNA(INDEX(POINTYEARS,MATCH(0,COUNTIF($F$8:F15,POINTYEARS),0))),"",INDEX(POINTYEARS,MATCH(0,COUNTIF($F$8:F15,POINTYEARS),0)))} | G16: =IF(AND(C16>0,A16=""),"Please enter a valid date.","") | I16: Classes you Teach (6D-above)
E17: =IF(A17>0,YEAR(A17),"") | F17: {=IF(ISNA(INDEX(POINTYEARS,MATCH(0,COUNTIF($F$8:F16,POINTYEARS),0))),"",INDEX(POINTYEARS,MATCH(0,COUNTIF($F$8:F16,POINTYEARS),0)))} | G17: =IF(AND(C17>0,A17=""),"Please enter a valid date.","") | I17: Officiating (ref./judging) shiai or kata tournament
E18: =IF(A18>0,YEAR(A18),"") | F18: {=IF(ISNA(INDEX(POINTYEARS,MATCH(0,COUNTIF($F$8:F17,POINTYEARS),0))),"",INDEX(POINTYEARS,MATCH(0,COUNTIF($F$8:F17,POINTYEARS),0)))} | G18: =IF(AND(C18>0,A18=""),"Please enter a valid date.","") | I18: Head referee/kata judge
E19: =IF(A19>0,YEAR(A19),"") | F19: {=IF(ISNA(INDEX(POINTYEARS,MATCH(0,COUNTIF($F$8:F18,POINTYEARS),0))),"",INDEX(POINTYEARS,MATCH(0,COUNTIF($F$8:F18,POINTYEARS),0)))} | G19: =IF(AND(C19>0,A19=""),"Please enter a valid date.","") | I19: Hosting/Directing tournament
E20: =IF(A20>0,YEAR(A20),"") | F20: {=IF(ISNA(INDEX(POINTYEARS,MATCH(0,COUNTIF($F$8:F19,POINTYEARS),0))),"",INDEX(POINTYEARS,MATCH(0,COUNTIF($F$8:F19,POINTYEARS),0)))} | G20: =IF(AND(C20>0,A20=""),"Please enter a valid date.","") | I20: Assistant hosting/Directing tournament
... E36: =IF(A36>0,YEAR(A36),"") | F36: {=IF(ISNA(INDEX(POINTYEARS,MATCH(0,COUNTIF($F$8:F35,POINTYEARS),0))),"",INDEX(POINTYEARS,MATCH(0,COUNTIF($F$8:F35,POINTYEARS),0)))} | G36: =IF(AND(C36>0,A36=""),"Please enter a valid date.","") | I36: Officiating (referee/ judging) shiai or kata tournament
E37: =IF(A37>0,YEAR(A37),"") | F37: {=IF(ISNA(INDEX(POINTYEARS,MATCH(0,COUNTIF($F$8:F36,POINTYEARS),0))),"",INDEX(POINTYEARS,MATCH(0,COUNTIF($F$8:F36,POINTYEARS),0)))} | G37: =IF(AND(C37>0,A37=""),"Please enter a valid date.","")
E38: =IF(A38>0,YEAR(A38),"") | F38: {=IF(ISNA(INDEX(POINTYEARS,MATCH(0,COUNTIF($F$8:F37,POINTYEARS),0))),"",INDEX(POINTYEARS,MATCH(0,COUNTIF($F$8:F37,POINTYEARS),0)))} | G38: =IF(AND(C38>0,A38=""),"Please enter a valid date.","")
E39: =IF(A39>0,YEAR(A39),"") | F39: {=IF(ISNA(INDEX(POINTYEARS,MATCH(0,COUNTIF($F$8:F38,POINTYEARS),0))),"",INDEX(POINTYEARS,MATCH(0,COUNTIF($F$8:F38,POINTYEARS),0)))} | G39: =IF(AND(C39>0,A39=""),"Please enter a valid date.","")
E40: =IF(A40>0,YEAR(A40),"") | F40: {=IF(ISNA(INDEX(POINTYEARS,MATCH(0,COUNTIF($F$8:F39,POINTYEARS),0))),"",INDEX(POINTYEARS,MATCH(0,COUNTIF($F$8:F39,POINTYEARS),0)))} | G40: =IF(AND(C40>0,A40=""),"Please enter a valid date.","")
E41: =IF(A41>0,YEAR(A41),"") | F41: {=IF(ISNA(INDEX(POINTYEARS,MATCH(0,COUNTIF($F$8:F40,POINTYEARS),0))),"",INDEX(POINTYEARS,MATCH(0,COUNTIF($F$8:F40,POINTYEARS),0)))} | G41: =IF(AND(C41>0,A41=""),"Please enter a valid date.","")
E42: =IF(A42>0,YEAR(A42),"") | F42: {=IF(ISNA(INDEX(POINTYEARS,MATCH(0,COUNTIF($F$8:F41,POINTYEARS),0))),"",INDEX(POINTYEARS,MATCH(0,COUNTIF($F$8:F41,POINTYEARS),0)))} | G42: =IF(AND(C42>0,A42=""),"Please enter a valid date.","")
E43: =IF(A43>0,YEAR(A43),"") | F43: {=IF(ISNA(INDEX(POINTYEARS,MATCH(0,COUNTIF($F$8:F42,POINTYEARS),0))),"",INDEX(POINTYEARS,MATCH(0,COUNTIF($F$8:F42,POINTYEARS),0)))} | G43: =IF(AND(C43>0,A43=""),"Please enter a valid date.","")
E44: =IF(A44>0,YEAR(A44),"") | F44: {=IF(ISNA(INDEX(POINTYEARS,MATCH(0,COUNTIF($F$8:F43,POINTYEARS),0))),"",INDEX(POINTYEARS,MATCH(0,COUNTIF($F$8:F43,POINTYEARS),0)))} | G44: =IF(AND(C44>0,A44=""),"Please enter a valid date.","")
E45: =IF(A45>0,YEAR(A45),"") | F45: {=IF(ISNA(INDEX(POINTYEARS,MATCH(0,COUNTIF($F$8:F44,POINTYEARS),0))),"",INDEX(POINTYEARS,MATCH(0,COUNTIF($F$8:F44,POINTYEARS),0)))} | G45: =IF(AND(C45>0,A45=""),"Please enter a valid date.","")
E46: =IF(A46>0,YEAR(A46),"") | F46: {=IF(ISNA(INDEX(POINTYEARS,MATCH(0,COUNTIF($F$8:F45,POINTYEARS),0))),"",INDEX(POINTYEARS,MATCH(0,COUNTIF($F$8:F45,POINTYEARS),0)))} | G46: =IF(AND(C46>0,A46=""),"Please enter a valid date.","")
E47: =IF(A47>0,YEAR(A47),"") | F47: {=IF(ISNA(INDEX(POINTYEARS,MATCH(0,COUNTIF($F$8:F46,POINTYEARS),0))),"",INDEX(POINTYEARS,MATCH(0,COUNTIF($F$8:F46,POINTYEARS),0)))} | G47: =IF(AND(C47>0,A47=""),"Please enter a valid date.","")
E48: =IF(A48>0,YEAR(A48),"") | F48: {=IF(ISNA(INDEX(POINTYEARS,MATCH(0,COUNTIF($F$8:F47,POINTYEARS),0))),"",INDEX(POINTYEARS,MATCH(0,COUNTIF($F$8:F47,POINTYEARS),0)))} | G48: =IF(AND(C48>0,A48=""),"Please enter a valid date.","")
... E700: =IF(A700>0,YEAR(A700),"") | F700: {=IF(ISNA(INDEX(POINTYEARS,MATCH(0,COUNTIF($F$8:F699,POINTYEARS),0))),"",INDEX(POINTYEARS,MATCH(0,COUNTIF($F$8:F699,POINTYEARS),0)))} | G700: =IF(AND(C700>0,A700=""),"Please enter a valid date.","")

Sheet Point Summary
A1: USJA Point Summary
A2: (Automatically filled in from the "Judo Activity Log" worksheet tab)
A3: NOTE: When troubleshooting, use the Activity Log to review entries and fix errors. The Point Summary will auto update.
A5: Name | B5: =IF('Judo Activity Log'!B5>0,'Judo Activity Log'!B5,"") | J5: Points Required | O5: =IF(ISERROR(IF(B7<1,"",INDEX(TIGANDPOINTS,(MATCH(B6,RANKS,0)),('Judo Activity Log'!H4)+1))),"",IF(B7<1,"",INDEX(TIGANDPOINTS,(MATCH(B6,RANKS,0)),('Judo Activity Log'!H4)+1))) | S5: =IF(B8="Did Not Meet Standard","'A' TIG Points (for reference)","")
A6: Current Rank | B6: =IF('Judo Activity Log'!B6>0,'Judo Activity Log'!B6,"") | J6: Next Rank | O6: =IF(ISERROR(IF(B6<1,"",INDEX(RANKS,(MATCH(B6,RANKS,0)+1)))),"",IF(B6<1,"",INDEX(RANKS,(MATCH(B6,RANKS,0)+1))))
A7: Rank Date | B7: =IF('Judo Activity Log'!B7>0,'Judo Activity Log'!B7,"") | J7: Time in Grade Needed | O7: =IF(ISERROR(INDEX(TIGANDPOINTS,(MATCH(B6,RANKS,0)),'Judo Activity Log'!H4)),"",CONCATENATE(INDEX(TIGANDPOINTS,(MATCH(B6,RANKS,0)),'Judo Activity Log'!H4)," yr."))
A8: Calculated TIG Level | B8: =IF(ISERROR('Judo Activity Log'!F4),"",'Judo Activity Log'!F4) | J8: Time in Grade Actual | O8: =CONCATENATE(IF('Judo Activity Log'!K1>=0,CONCATENATE('Judo Activity Log'!K1," yr. "),""),IF('Judo Activity Log'!K2>=0,CONCATENATE('Judo Activity Log'!K2," mo."),"")) -> 0 yr. 0 mo.
A9: YEARS | B9: =IF(ISERROR(SMALL('Judo Activity Log'!$F$9:$F$67,1)),"",SMALL('Judo Activity Log'!$F$9:$F$67,1)) | C9: =IF(ISERROR(SMALL('Judo Activity Log'!$F$9:$F$67,2)),"",SMALL('Judo Activity Log'!$F$9:$F$67,2)) | D9: =IF(ISERROR(SMALL('Judo Activity Log'!$F$9:$F$67,3)),"",SMALL('Judo Activity Log'!$F$9:$F$67,3)) | E9: =IF(ISERROR(SMALL('Judo Activity Log'!$F$9:$F$67,4)),"",SMALL('Judo Activity Log'!$F$9:$F$67,4)) | F9: =IF(ISERROR(SMALL('Judo Activity Log'!$F$9:$F$67,5)),"",SMALL('Judo Activity Log'!$F$9:$F$67,5)) | G9: =IF(ISERROR(SMALL('Judo Activity Log'!$F$9:$F$67,6)),"",SMALL('Judo Activity Log'!$F$9:$F$67,6)) | H9: =IF(ISERROR(SMALL('Judo Activity Log'!$F$9:$F$67,7)),"",SMALL('Judo Activity Log'!$F$9:$F$67,7)) | I9: =IF(ISERROR(SMALL('Judo Activity Log'!$F$9:$F$67,8)),"",SMALL('Judo Activity Log'!$F$9:$F$67,8)) | J9: =IF(ISERROR(SMALL('Judo Activity Log'!$F$9:$F$67,9)),"",SMALL('Judo Activity Log'!$F$9:$F$67,9)) | K9: =IF(ISERROR(SMALL('Judo Activity Log'!$F$9:$F$67,10)),"",SMALL('Judo Activity Log'!$F$9:$F$67,10)) | L9: =IF(ISERROR(SMALL('Judo Activity Log'!$F$9:$F$67,11)),"",SMALL('Judo Activity Log'!$F$9:$F$67,11)) | M9: =IF(ISERROR(SMALL('Judo Activity Log'!$F$9:$F$67,12)),"",SMALL('Judo Activity Log'!$F$9:$F$67,12)) | N9: =IF(ISERROR(SMALL('Judo Activity Log'!$F$9:$F$67,13)),"",SMALL('Judo Activity Log'!$F$9:$F$67,13)) | O9: =IF(ISERROR(SMALL('Judo Activity Log'!$F$9:$F$67,14)),"",SMALL('Judo Activity Log'!$F$9:$F$67,14)) | P9: =IF(ISERROR(SMALL('Judo Activity Log'!$F$9:$F$67,15)),"",SMALL('Judo Activity Log'!$F$9:$F$67,15)) | Q9: =IF(ISERROR(SMALL('Judo Activity Log'!$F$9:$F$67,16)),"",SMALL('Judo Activity Log'!$F$9:$F$67,16)) | R9: =IF(ISERROR(SMALL('Judo Activity Log'!$F$9:$F$67,17)),"",SMALL('Judo Activity Log'!$F$9:$F$67,17)) | S9: =IF(ISERROR(SMALL('Judo Activity Log'!$F$9:$F$67,18)),"",SMALL('Judo Activity Log'!$F$9:$F$67,18)) | T9: =IF(ISERROR(SMALL('Judo Activity Log'!$F$9:$F$67,19)),"",SMALL('Judo Activity Log'!$F$9:$F$67,19)) | U9: =IF(ISERROR(SMALL('Judo Activity Log'!$F$9:$F$67,20)),"",SMALL('Judo Activity Log'!$F$9:$F$67,20)) | V9: =IF(ISERROR(SMALL('Judo Activity Log'!$F$9:$F$67,21)),"",SMALL('Judo Activity Log'!$F$9:$F$67,21)) | W9: TOTAL
A10: Competition
A11: Shiai Tournaments | B11: =IF(AND((SUMPRODUCT(--(POINTYEARS='Point Summary'!B$9),--(POINTCLASS='Judo Activity Log'!$I$9),POINTSEARNED)>0),(B$9<>"")),SUMPRODUCT(--(POINTYEARS='Point Summary'!B$9),--(POINTCLASS='Judo Activity Log'!$I$9),POINTSEARNED),"") | C11: =IF(AND((SUMPRODUCT(--(POINTYEARS='Point Summary'!C$9),--(POINTCLASS='Judo Activity Log'!$I$9),POINTSEARNED)>0),(C$9<>"")),SUMPRODUCT(--(POINTYEARS='Point Summary'!C$9),--(POINTCLASS='Judo Activity Log'!$I$9),POINTSEARNED),"") | D11: =IF(AND((SUMPRODUCT(--(POINTYEARS='Point Summary'!D$9),--(POINTCLASS='Judo Activity Log'!$I$9),POINTSEARNED)>0),(D$9<>"")),SUMPRODUCT(--(POINTYEARS='Point Summary'!D$9),--(POINTCLASS='Judo Activity Log'!$I$9),POINTSEARNED),"") | E11: =IF(AND((SUMPRODUCT(--(POINTYEARS='Point Summary'!E$9),--(POINTCLASS='Judo Activity Log'!$I$9),POINTSEARNED)>0),(E$9<>"")),SUMPRODUCT(--(POINTYEARS='Point Summary'!E$9),--(POINTCLASS='Judo Activity Log'!$I$9),POINTSEARNED),"") | F11: =IF(AND((SUMPRODUCT(--(POINTYEARS='Point Summary'!F$9),--(POINTCLASS='Judo Activity Log'!$I$9),POINTSEARNED)>0),(F$9<>"")),SUMPRODUCT(--(POINTYEARS='Point Summary'!F$9),--(POINTCLASS='Judo Activity Log'!$I$9),POINTSEARNED),"") | G11: =IF(AND((SUMPRODUCT(--(POINTYEARS='Point Summary'!G$9),--(POINTCLASS='Judo Activity Log'!$I$9),POINTSEARNED)>0),(G$9<>"")),SUMPRODUCT(--(POINTYEARS='Point Summary'!G$9),--(POINTCLASS='Judo Activity Log'!$I$9),POINTSEARNED),"") | H11: =IF(AND((SUMPRODUCT(--(POINTYEARS='Point Summary'!H$9),--(POINTCLASS='Judo Activity Log'!$I$9),POINTSEARNED)>0),(H$9<>"")),SUMPRODUCT(--(POINTYEARS='Point Summary'!H$9),--(POINTCLASS='Judo Activity Log'!$I$9),POINTSEARNED),"") | I11: =IF(AND((SUMPRODUCT(--(POINTYEARS='Point Summary'!I$9),--(POINTCLASS='Judo Activity Log'!$I$9),POINTSEARNED)>0),(I$9<>"")),SUMPRODUCT(--(POINTYEARS='Point Summary'!I$9),--(POINTCLASS='Judo Activity Log'!$I$9),POINTSEARNED),"") | ... V11: =IF(AND((SUMPRODUCT(--(POINTYEARS='Point Summary'!V$9),--(POINTCLASS='Judo Activity Log'!$I$9),POINTSEARNED)>0),(V$9<>"")),SUMPRODUCT(--(POINTYEARS='Point Summary'!V$9),--(POINTCLASS='Judo Activity Log'!$I$9),POINTSEARNED),"") | W11: =SUM(B11:V11) -> 0
A12: Kata Tournaments | B12: =IF(AND((SUMPRODUCT(--(POINTYEARS='Point Summary'!B$9),--(POINTCLASS='Judo Activity Log'!$I$10),POINTSEARNED)>0),(B$9<>"")),SUMPRODUCT(--(POINTYEARS='Point Summary'!B$9),--(POINTCLASS='Judo Activity Log'!$I$10),POINTSEARNED),"") | C12: =IF(AND((SUMPRODUCT(--(POINTYEARS='Point Summary'!C$9),--(POINTCLASS='Judo Activity Log'!$I$10),POINTSEARNED)>0),(C$9<>"")),SUMPRODUCT(--(POINTYEARS='Point Summary'!C$9),--(POINTCLASS='Judo Activity Log'!$I$10),POINTSEARNED),"") | D12: =IF(AND((SUMPRODUCT(--(POINTYEARS='Point Summary'!D$9),--(POINTCLASS='Judo Activity Log'!$I$10),POINTSEARNED)>0),(D$9<>"")),SUMPRODUCT(--(POINTYEARS='Point Summary'!D$9),--(POINTCLASS='Judo Activity Log'!$I$10),POINTSEARNED),"") | E12: =IF(AND((SUMPRODUCT(--(POINTYEARS='Point Summary'!E$9),--(POINTCLASS='Judo Activity Log'!$I$10),POINTSEARNED)>0),(E$9<>"")),SUMPRODUCT(--(POINTYEARS='Point Summary'!E$9),--(POINTCLASS='Judo Activity Log'!$I$10),POINTSEARNED),"") | F12: =IF(AND((SUMPRODUCT(--(POINTYEARS='Point Summary'!F$9),--(POINTCLASS='Judo Activity Log'!$I$10),POINTSEARNED)>0),(F$9<>"")),SUMPRODUCT(--(POINTYEARS='Point Summary'!F$9),--(POINTCLASS='Judo Activity Log'!$I$10),POINTSEARNED),"") | G12: =IF(AND((SUMPRODUCT(--(POINTYEARS='Point Summary'!G$9),--(POINTCLASS='Judo Activity Log'!$I$10),POINTSEARNED)>0),(G$9<>"")),SUMPRODUCT(--(POINTYEARS='Point Summary'!G$9),--(POINTCLASS='Judo Activity Log'!$I$10),POINTSEARNED),"") | H12: =IF(AND((SUMPRODUCT(--(POINTYEARS='Point Summary'!H$9),--(POINTCLASS='Judo Activity Log'!$I$10),POINTSEARNED)>0),(H$9<>"")),SUMPRODUCT(--(POINTYEARS='Point Summary'!H$9),--(POINTCLASS='Judo Activity Log'!$I$10),POINTSEARNED),"") | I12: =IF(AND((SUMPRODUCT(--(POINTYEARS='Point Summary'!I$9),--(POINTCLASS='Judo Activity Log'!$I$10),POINTSEARNED)>0),(I$9<>"")),SUMPRODUCT(--(POINTYEARS='Point Summary'!I$9),--(POINTCLASS='Judo Activity Log'!$I$10),POINTSEARNED),"") | ... V12: =IF(AND((SUMPRODUCT(--(POINTYEARS='Point Summary'!V$9),--(POINTCLASS='Judo Activity Log'!$I$10),POINTSEARNED)>0),(V$9<>"")),SUMPRODUCT(--(POINTYEARS='Point Summary'!V$9),--(POINTCLASS='Judo Activity Log'!$I$10),POINTSEARNED),"") | W12: =SUM(B12:V12) -> 0
A13: Mini Tournaments | B13: =IF(AND((SUMPRODUCT(--(POINTYEARS='Point Summary'!B$9),--(POINTCLASS='Judo Activity Log'!$I$11),POINTSEARNED)>0),(B$9<>"")),SUMPRODUCT(--(POINTYEARS='Point Summary'!B$9),--(POINTCLASS='Judo Activity Log'!$I$11),POINTSEARNED),"") | C13: =IF(AND((SUMPRODUCT(--(POINTYEARS='Point Summary'!C$9),--(POINTCLASS='Judo Activity Log'!$I$11),POINTSEARNED)>0),(C$9<>"")),SUMPRODUCT(--(POINTYEARS='Point Summary'!C$9),--(POINTCLASS='Judo Activity Log'!$I$11),POINTSEARNED),"") | D13: =IF(AND((SUMPRODUCT(--(POINTYEARS='Point Summary'!D$9),--(POINTCLASS='Judo Activity Log'!$I$11),POINTSEARNED)>0),(D$9<>"")),SUMPRODUCT(--(POINTYEARS='Point Summary'!D$9),--(POINTCLASS='Judo Activity Log'!$I$11),POINTSEARNED),"") | E13: =IF(AND((SUMPRODUCT(--(POINTYEARS='Point Summary'!E$9),--(POINTCLASS='Judo Activity Log'!$I$11),POINTSEARNED)>0),(E$9<>"")),SUMPRODUCT(--(POINTYEARS='Point Summary'!E$9),--(POINTCLASS='Judo Activity Log'!$I$11),POINTSEARNED),"") | F13: =IF(AND((SUMPRODUCT(--(POINTYEARS='Point Summary'!F$9),--(POINTCLASS='Judo Activity Log'!$I$11),POINTSEARNED)>0),(F$9<>"")),SUMPRODUCT(--(POINTYEARS='Point Summary'!F$9),--(POINTCLASS='Judo Activity Log'!$I$11),POINTSEARNED),"") | G13: =IF(AND((SUMPRODUCT(--(POINTYEARS='Point Summary'!G$9),--(POINTCLASS='Judo Activity Log'!$I$11),POINTSEARNED)>0),(G$9<>"")),SUMPRODUCT(--(POINTYEARS='Point Summary'!G$9),--(POINTCLASS='Judo Activity Log'!$I$11),POINTSEARNED),"") | H13: =IF(AND((SUMPRODUCT(--(POINTYEARS='Point Summary'!H$9),--(POINTCLASS='Judo Activity Log'!$I$11),POINTSEARNED)>0),(H$9<>"")),SUMPRODUCT(--(POINTYEARS='Point Summary'!H$9),--(POINTCLASS='Judo Activity Log'!$I$11),POINTSEARNED),"") | I13: =IF(AND((SUMPRODUCT(--(POINTYEARS='Point Summary'!I$9),--(POINTCLASS='Judo Activity Log'!$I$11),POINTSEARNED)>0),(I$9<>"")),SUMPRODUCT(--(POINTYEARS='Point Summary'!I$9),--(POINTCLASS='Judo Activity Log'!$I$11),POINTSEARNED),"") | ... V13: =IF(AND((SUMPRODUCT(--(POINTYEARS='Point Summary'!V$9),--(POINTCLASS='Judo Activity Log'!$I$11),POINTSEARNED)>0),(V$9<>"")),SUMPRODUCT(--(POINTYEARS='Point Summary'!V$9),--(POINTCLASS='Judo Activity Log'!$I$11),POINTSEARNED),"") | W13: =SUM(B13:V13) -> 0
A14: Competition Total | W14: =SUM(W11:W13) -> 0
A15: Service to USJA
A16: Clinic Attendance | B16: =IF(AND((SUMPRODUCT(--(POINTYEARS='Point Summary'!B$9),--(POINTCLASS='Judo Activity Log'!$I$12),POINTSEARNED)>0),(B$9<>"")),SUMPRODUCT(--(POINTYEARS='Point Summary'!B$9),--(POINTCLASS='Judo Activity Log'!$I$12),POINTSEARNED),"") | C16: =IF(AND((SUMPRODUCT(--(POINTYEARS='Point Summary'!C$9),--(POINTCLASS='Judo Activity Log'!$I$12),POINTSEARNED)>0),(C$9<>"")),SUMPRODUCT(--(POINTYEARS='Point Summary'!C$9),--(POINTCLASS='Judo Activity Log'!$I$12),POINTSEARNED),"") | D16: =IF(AND((SUMPRODUCT(--(POINTYEARS='Point Summary'!D$9),--(POINTCLASS='Judo Activity Log'!$I$12),POINTSEARNED)>0),(D$9<>"")),SUMPRODUCT(--(POINTYEARS='Point Summary'!D$9),--(POINTCLASS='Judo Activity Log'!$I$12),POINTSEARNED),"") | E16: =IF(AND((SUMPRODUCT(--(POINTYEARS='Point Summary'!E$9),--(POINTCLASS='Judo Activity Log'!$I$12),POINTSEARNED)>0),(E$9<>"")),SUMPRODUCT(--(POINTYEARS='Point Summary'!E$9),--(POINTCLASS='Judo Activity Log'!$I$12),POINTSEARNED),"") | F16: =IF(AND((SUMPRODUCT(--(POINTYEARS='Point Summary'!F$9),--(POINTCLASS='Judo Activity Log'!$I$12),POINTSEARNED)>0),(F$9<>"")),SUMPRODUCT(--(POINTYEARS='Point Summary'!F$9),--(POINTCLASS='Judo Activity Log'!$I$12),POINTSEARNED),"") | G16: =IF(AND((SUMPRODUCT(--(POINTYEARS='Point Summary'!G$9),--(POINTCLASS='Judo Activity Log'!$I$12),POINTSEARNED)>0),(G$9<>"")),SUMPRODUCT(--(POINTYEARS='Point Summary'!G$9),--(POINTCLASS='Judo Activity Log'!$I$12),POINTSEARNED),"") | H16: =IF(AND((SUMPRODUCT(--(POINTYEARS='Point Summary'!H$9),--(POINTCLASS='Judo Activity Log'!$I$12),POINTSEARNED)>0),(H$9<>"")),SUMPRODUCT(--(POINTYEARS='Point Summary'!H$9),--(POINTCLASS='Judo Activity Log'!$I$12),POINTSEARNED),"") | I16: =IF(AND((SUMPRODUCT(--(POINTYEARS='Point Summary'!I$9),--(POINTCLASS='Judo Activity Log'!$I$12),POINTSEARNED)>0),(I$9<>"")),SUMPRODUCT(--(POINTYEARS='Point Summary'!I$9),--(POINTCLASS='Judo Activity Log'!$I$12),POINTSEARNED),"") | ... V16: =IF(AND((SUMPRODUCT(--(POINTYEARS='Point Summary'!V$9),--(POINTCLASS='Judo Activity Log'!$I$12),POINTSEARNED)>0),(V$9<>"")),SUMPRODUCT(--(POINTYEARS='Point Summary'!V$9),--(POINTCLASS='Judo Activity Log'!$I$12),POINTSEARNED),"") | W16: =SUM(B16:V16) -> 0
A17: Mini Clinic | B17: =IF(AND((SUMPRODUCT(--(POINTYEARS='Point Summary'!B$9),--(POINTCLASS='Judo Activity Log'!$I$34),POINTSEARNED)>0),(B$9<>"")),SUMPRODUCT(--(POINTYEARS='Point Summary'!B$9),--(POINTCLASS='Judo Activity Log'!$I$34),POINTSEARNED),"") | C17: =IF(AND((SUMPRODUCT(--(POINTYEARS='Point Summary'!C$9),--(POINTCLASS='Judo Activity Log'!$I$34),POINTSEARNED)>0),(C$9<>"")),SUMPRODUCT(--(POINTYEARS='Point Summary'!C$9),--(POINTCLASS='Judo Activity Log'!$I$34),POINTSEARNED),"") | D17: =IF(AND((SUMPRODUCT(--(POINTYEARS='Point Summary'!D$9),--(POINTCLASS='Judo Activity Log'!$I$34),POINTSEARNED)>0),(D$9<>"")),SUMPRODUCT(--(POINTYEARS='Point Summary'!D$9),--(POINTCLASS='Judo Activity Log'!$I$34),POINTSEARNED),"") | E17: =IF(AND((SUMPRODUCT(--(POINTYEARS='Point Summary'!E$9),--(POINTCLASS='Judo Activity Log'!$I$34),POINTSEARNED)>0),(E$9<>"")),SUMPRODUCT(--(POINTYEARS='Point Summary'!E$9),--(POINTCLASS='Judo Activity Log'!$I$34),POINTSEARNED),"") | F17: =IF(AND((SUMPRODUCT(--(POINTYEARS='Point Summary'!F$9),--(POINTCLASS='Judo Activity Log'!$I$34),POINTSEARNED)>0),(F$9<>"")),SUMPRODUCT(--(POINTYEARS='Point Summary'!F$9),--(POINTCLASS='Judo Activity Log'!$I$34),POINTSEARNED),"") | G17: =IF(AND((SUMPRODUCT(--(POINTYEARS='Point Summary'!G$9),--(POINTCLASS='Judo Activity Log'!$I$34),POINTSEARNED)>0),(G$9<>"")),SUMPRODUCT(--(POINTYEARS='Point Summary'!G$9),--(POINTCLASS='Judo Activity Log'!$I$34),POINTSEARNED),"") | H17: =IF(AND((SUMPRODUCT(--(POINTYEARS='Point Summary'!H$9),--(POINTCLASS='Judo Activity Log'!$I$34),POINTSEARNED)>0),(H$9<>"")),SUMPRODUCT(--(POINTYEARS='Point Summary'!H$9),--(POINTCLASS='Judo Activity Log'!$I$34),POINTSEARNED),"") | I17: =IF(AND((SUMPRODUCT(--(POINTYEARS='Point Summary'!I$9),--(POINTCLASS='Judo Activity Log'!$I$34),POINTSEARNED)>0),(I$9<>"")),SUMPRODUCT(--(POINTYEARS='Point Summary'!I$9),--(POINTCLASS='Judo Activity Log'!$I$34),POINTSEARNED),"") | ... V17: =IF(AND((SUMPRODUCT(--(POINTYEARS='Point Summary'!V$9),--(POINTCLASS='Judo Activity Log'!$I$34),POINTSEARNED)>0),(V$9<>"")),SUMPRODUCT(--(POINTYEARS='Point Summary'!V$9),--(POINTCLASS='Judo Activity Log'!$I$34),POINTSEARNED),"") | W17: =SUM(B17:V17) -> 0
A18: Virtual Seminars | B18: =IF(AND((SUMPRODUCT(--(POINTYEARS='Point Summary'!B$9),--(POINTCLASS='Judo Activity Log'!$I$13),POINTSEARNED)>0),(B$9<>"")),SUMPRODUCT(--(POINTYEARS='Point Summary'!B$9),--(POINTCLASS='Judo Activity Log'!$I$13),POINTSEARNED),"") | C18: =IF(AND((SUMPRODUCT(--(POINTYEARS='Point Summary'!C$9),--(POINTCLASS='Judo Activity Log'!$I$13),POINTSEARNED)>0),(C$9<>"")),SUMPRODUCT(--(POINTYEARS='Point Summary'!C$9),--(POINTCLASS='Judo Activity Log'!$I$13),POINTSEARNED),"") | D18: =IF(AND((SUMPRODUCT(--(POINTYEARS='Point Summary'!D$9),--(POINTCLASS='Judo Activity Log'!$I$13),POINTSEARNED)>0),(D$9<>"")),SUMPRODUCT(--(POINTYEARS='Point Summary'!D$9),--(POINTCLASS='Judo Activity Log'!$I$13),POINTSEARNED),"") | E18: =IF(AND((SUMPRODUCT(--(POINTYEARS='Point Summary'!E$9),--(POINTCLASS='Judo Activity Log'!$I$13),POINTSEARNED)>0),(E$9<>"")),SUMPRODUCT(--(POINTYEARS='Point Summary'!E$9),--(POINTCLASS='Judo Activity Log'!$I$13),POINTSEARNED),"") | F18: =IF(AND((SUMPRODUCT(--(POINTYEARS='Point Summary'!F$9),--(POINTCLASS='Judo Activity Log'!$I$13),POINTSEARNED)>0),(F$9<>"")),SUMPRODUCT(--(POINTYEARS='Point Summary'!F$9),--(POINTCLASS='Judo Activity Log'!$I$13),POINTSEARNED),"") | G18: =IF(AND((SUMPRODUCT(--(POINTYEARS='Point Summary'!G$9),--(POINTCLASS='Judo Activity Log'!$I$13),POINTSEARNED)>0),(G$9<>"")),SUMPRODUCT(--(POINTYEARS='Point Summary'!G$9),--(POINTCLASS='Judo Activity Log'!$I$13),POINTSEARNED),"") | H18: =IF(AND((SUMPRODUCT(--(POINTYEARS='Point Summary'!H$9),--(POINTCLASS='Judo Activity Log'!$I$13),POINTSEARNED)>0),(H$9<>"")),SUMPRODUCT(--(POINTYEARS='Point Summary'!H$9),--(POINTCLASS='Judo Activity Log'!$I$13),POINTSEARNED),"") | I18: =IF(AND((SUMPRODUCT(--(POINTYEARS='Point Summary'!I$9),--(POINTCLASS='Judo Activity Log'!$I$13),POINTSEARNED)>0),(I$9<>"")),SUMPRODUCT(--(POINTYEARS='Point Summary'!I$9),--(POINTCLASS='Judo Activity Log'!$I$13),POINTSEARNED),"") | ... V18: =IF(AND((SUMPRODUCT(--(POINTYEARS='Point Summary'!V$9),--(POINTCLASS='Judo Activity Log'!$I$13),POINTSEARNED)>0),(V$9<>"")),SUMPRODUCT(--(POINTYEARS='Point Summary'!V$9),--(POINTCLASS='Judo Activity Log'!$I$13),POINTSEARNED),"") | W18: =IF(OR(O5=0,O5=""),SUM(B18:V18),IF(ISERROR(IF(SUM(B18:V18)>(0.25*O5),(0.25*O5),SUM(B18:V18))),0,IF(SUM(B18:V18)>(0.25*O5),(0.25*O5),SUM(B18:V18)))) -> 0 | Y18: =IF(ISERROR(SUM(B18:V18)>(0.25*O5)),"",IF(SUM(B18:V18)>(0.25*O5),"Only 25% of the required promotion points can be from Virtual Seminars.",""))
A19: Class Attendance | B19: =IF(AND((SUMPRODUCT(--(POINTYEARS='Point Summary'!B$9),--(POINTCLASS='Judo Activity Log'!$I$14),POINTSEARNED)>0),(B$9<>"")),SUMPRODUCT(--(POINTYEARS='Point Summary'!B$9),--(POINTCLASS='Judo Activity Log'!$I$14),POINTSEARNED),"") | C19: =IF(AND((SUMPRODUCT(--(POINTYEARS='Point Summary'!C$9),--(POINTCLASS='Judo Activity Log'!$I$14),POINTSEARNED)>0),(C$9<>"")),SUMPRODUCT(--(POINTYEARS='Point Summary'!C$9),--(POINTCLASS='Judo Activity Log'!$I$14),POINTSEARNED),"") | D19: =IF(AND((SUMPRODUCT(--(POINTYEARS='Point Summary'!D$9),--(POINTCLASS='Judo Activity Log'!$I$14),POINTSEARNED)>0),(D$9<>"")),SUMPRODUCT(--(POINTYEARS='Point Summary'!D$9),--(POINTCLASS='Judo Activity Log'!$I$14),POINTSEARNED),"") | E19: =IF(AND((SUMPRODUCT(--(POINTYEARS='Point Summary'!E$9),--(POINTCLASS='Judo Activity Log'!$I$14),POINTSEARNED)>0),(E$9<>"")),SUMPRODUCT(--(POINTYEARS='Point Summary'!E$9),--(POINTCLASS='Judo Activity Log'!$I$14),POINTSEARNED),"") | F19: =IF(AND((SUMPRODUCT(--(POINTYEARS='Point Summary'!F$9),--(POINTCLASS='Judo Activity Log'!$I$14),POINTSEARNED)>0),(F$9<>"")),SUMPRODUCT(--(POINTYEARS='Point Summary'!F$9),--(POINTCLASS='Judo Activity Log'!$I$14),POINTSEARNED),"") | G19: =IF(AND((SUMPRODUCT(--(POINTYEARS='Point Summary'!G$9),--(POINTCLASS='Judo Activity Log'!$I$14),POINTSEARNED)>0),(G$9<>"")),SUMPRODUCT(--(POINTYEARS='Point Summary'!G$9),--(POINTCLASS='Judo Activity Log'!$I$14),POINTSEARNED),"") | H19: =IF(AND((SUMPRODUCT(--(POINTYEARS='Point Summary'!H$9),--(POINTCLASS='Judo Activity Log'!$I$14),POINTSEARNED)>0),(H$9<>"")),SUMPRODUCT(--(POINTYEARS='Point Summary'!H$9),--(POINTCLASS='Judo Activity Log'!$I$14),POINTSEARNED),"") | I19: =IF(AND((SUMPRODUCT(--(POINTYEARS='Point Summary'!I$9),--(POINTCLASS='Judo Activity Log'!$I$14),POINTSEARNED)>0),(I$9<>"")),SUMPRODUCT(--(POINTYEARS='Point Summary'!I$9),--(POINTCLASS='Judo Activity Log'!$I$14),POINTSEARNED),"") | ... V19: =IF(AND((SUMPRODUCT(--(POINTYEARS='Point Summary'!V$9),--(POINTCLASS='Judo Activity Log'!$I$14),POINTSEARNED)>0),(V$9<>"")),SUMPRODUCT(--(POINTYEARS='Point Summary'!V$9),--(POINTCLASS='Judo Activity Log'!$I$14),POINTSEARNED),"") | W19: =IF(OR(O5=0,O5=""),SUM(B19:V19),IF(ISERROR(IF(SUM(B19:V19)>(0.35*O5),(0.35*O5),SUM(B19:V19))),0,IF(SUM(B19:V19)>(0.35*O5),(0.35*O5),SUM(B19:V19)))) -> 0 | Y19: =IF(OR(O5=0,O6="Kudan",O6="Judan"),"All Class Points are accounted for: Class 'D' Shodan-Sandan and Kudan-Judan.",IF(ISERROR(SUM(B19:V19)>(0.35*O5)),"",IF(SUM(B19:V19)>(0.35*O5),"Only 35% of the required promotion points can be from Class Attendance.","")))
A20: Classes you Teach (thru 5D) | B20: =IF(AND((SUMPRODUCT(--(POINTYEARS='Point Summary'!B$9),--(POINTCLASS='Judo Activity Log'!$I$15),POINTSEARNED)>0),(B$9<>"")),SUMPRODUCT(--(POINTYEARS='Point Summary'!B$9),--(POINTCLASS='Judo Activity Log'!$I$15),POINTSEARNED),"") | C20: =IF(AND((SUMPRODUCT(--(POINTYEARS='Point Summary'!C$9),--(POINTCLASS='Judo Activity Log'!$I$15),POINTSEARNED)>0),(C$9<>"")),SUMPRODUCT(--(POINTYEARS='Point Summary'!C$9),--(POINTCLASS='Judo Activity Log'!$I$15),POINTSEARNED),"") | D20: =IF(AND((SUMPRODUCT(--(POINTYEARS='Point Summary'!D$9),--(POINTCLASS='Judo Activity Log'!$I$15),POINTSEARNED)>0),(D$9<>"")),SUMPRODUCT(--(POINTYEARS='Point Summary'!D$9),--(POINTCLASS='Judo Activity Log'!$I$15),POINTSEARNED),"") | E20: =IF(AND((SUMPRODUCT(--(POINTYEARS='Point Summary'!E$9),--(POINTCLASS='Judo Activity Log'!$I$15),POINTSEARNED)>0),(E$9<>"")),SUMPRODUCT(--(POINTYEARS='Point Summary'!E$9),--(POINTCLASS='Judo Activity Log'!$I$15),POINTSEARNED),"") | F20: =IF(AND((SUMPRODUCT(--(POINTYEARS='Point Summary'!F$9),--(POINTCLASS='Judo Activity Log'!$I$15),POINTSEARNED)>0),(F$9<>"")),SUMPRODUCT(--(POINTYEARS='Point Summary'!F$9),--(POINTCLASS='Judo Activity Log'!$I$15),POINTSEARNED),"") | G20: =IF(AND((SUMPRODUCT(--(POINTYEARS='Point Summary'!G$9),--(POINTCLASS='Judo Activity Log'!$I$15),POINTSEARNED)>0),(G$9<>"")),SUMPRODUCT(--(POINTYEARS='Point Summary'!G$9),--(POINTCLASS='Judo Activity Log'!$I$15),POINTSEARNED),"") | H20: =IF(AND((SUMPRODUCT(--(POINTYEARS='Point Summary'!H$9),--(POINTCLASS='Judo Activity Log'!$I$15),POINTSEARNED)>0),(H$9<>"")),SUMPRODUCT(--(POINTYEARS='Point Summary'!H$9),--(POINTCLASS='Judo Activity Log'!$I$15),POINTSEARNED),"") | I20: =IF(AND((SUMPRODUCT(--(POINTYEARS='Point Summary'!I$9),--(POINTCLASS='Judo Activity Log'!$I$15),POINTSEARNED)>0),(I$9<>"")),SUMPRODUCT(--(POINTYEARS='Point Summary'!I$9),--(POINTCLASS='Judo Activity Log'!$I$15),POINTSEARNED),"") | ... V20: =IF(AND((SUMPRODUCT(--(POINTYEARS='Point Summary'!V$9),--(POINTCLASS='Judo Activity Log'!$I$15),POINTSEARNED)>0),(V$9<>"")),SUMPRODUCT(--(POINTYEARS='Point Summary'!V$9),--(POINTCLASS='Judo Activity Log'!$I$15),POINTSEARNED),"") | W20: =IF(OR(O5=0,O5=""),SUM(B20:V20),IF(ISERROR(IF(SUM(B20:V20)>(0.35*O5),(0.35*O5),SUM(B20:V20))),0,IF(SUM(B20:V20)>(0.35*O5),(0.35*O5),SUM(B20:V20)))) -> 0 | Y20: =IF(ISERROR(SUM(B20:V20)>(0.35*O5)),"",IF(SUM(B20:V20)>(0.35*O5),"Only 35% of the required promotion points can be from Classes you Teach (thru 5D).",""))
A21: Classes you Teach (6D-above) | B21: =IF(AND((SUMPRODUCT(--(POINTYEARS='Point Summary'!B$9),--(POINTCLASS='Judo Activity Log'!$I$16),POINTSEARNED)>0),(B$9<>"")),SUMPRODUCT(--(POINTYEARS='Point Summary'!B$9),--(POINTCLASS='Judo Activity Log'!$I$16),POINTSEARNED),"") | C21: =IF(AND((SUMPRODUCT(--(POINTYEARS='Point Summary'!C$9),--(POINTCLASS='Judo Activity Log'!$I$16),POINTSEARNED)>0),(C$9<>"")),SUMPRODUCT(--(POINTYEARS='Point Summary'!C$9),--(POINTCLASS='Judo Activity Log'!$I$16),POINTSEARNED),"") | D21: =IF(AND((SUMPRODUCT(--(POINTYEARS='Point Summary'!D$9),--(POINTCLASS='Judo Activity Log'!$I$16),POINTSEARNED)>0),(D$9<>"")),SUMPRODUCT(--(POINTYEARS='Point Summary'!D$9),--(POINTCLASS='Judo Activity Log'!$I$16),POINTSEARNED),"") | E21: =IF(AND((SUMPRODUCT(--(POINTYEARS='Point Summary'!E$9),--(POINTCLASS='Judo Activity Log'!$I$16),POINTSEARNED)>0),(E$9<>"")),SUMPRODUCT(--(POINTYEARS='Point Summary'!E$9),--(POINTCLASS='Judo Activity Log'!$I$16),POINTSEARNED),"") | F21: =IF(AND((SUMPRODUCT(--(POINTYEARS='Point Summary'!F$9),--(POINTCLASS='Judo Activity Log'!$I$16),POINTSEARNED)>0),(F$9<>"")),SUMPRODUCT(--(POINTYEARS='Point Summary'!F$9),--(POINTCLASS='Judo Activity Log'!$I$16),POINTSEARNED),"") | G21: =IF(AND((SUMPRODUCT(--(POINTYEARS='Point Summary'!G$9),--(POINTCLASS='Judo Activity Log'!$I$16),POINTSEARNED)>0),(G$9<>"")),SUMPRODUCT(--(POINTYEARS='Point Summary'!G$9),--(POINTCLASS='Judo Activity Log'!$I$16),POINTSEARNED),"") | H21: =IF(AND((SUMPRODUCT(--(POINTYEARS='Point Summary'!H$9),--(POINTCLASS='Judo Activity Log'!$I$16),POINTSEARNED)>0),(H$9<>"")),SUMPRODUCT(--(POINTYEARS='Point Summary'!H$9),--(POINTCLASS='Judo Activity Log'!$I$16),POINTSEARNED),"") | I21: =IF(AND((SUMPRODUCT(--(POINTYEARS='Point Summary'!I$9),--(POINTCLASS='Judo Activity Log'!$I$16),POINTSEARNED)>0),(I$9<>"")),SUMPRODUCT(--(POINTYEARS='Point Summary'!I$9),--(POINTCLASS='Judo Activity Log'!$I$16),POINTSEARNED),"") | ... V21: =IF(AND((SUMPRODUCT(--(POINTYEARS='Point Summary'!V$9),--(POINTCLASS='Judo Activity Log'!$I$16),POINTSEARNED)>0),(V$9<>"")),SUMPRODUCT(--(POINTYEARS='Point Summary'!V$9),--(POINTCLASS='Judo Activity Log'!$I$16),POINTSEARNED),"") | W21: =IF(OR(O5=0,O5=""),SUM(B21:V21),IF(ISERROR(IF(SUM(B21:V21)>(0.5*O5),(0.5*O5),SUM(B21:V21))),0,IF(SUM(B21:V21)>(0.5*O5),(0.5*O5),SUM(B21:V21)))) -> 0 | Y21: =IF(ISERROR(SUM(B21:V21)>(0.5*O5)),"",IF(SUM(B21:V21)>(0.5*O5),"Only 50% of the required promotion points can be from Classes You Teach (6D - above).",""))
A22: Officiating (ref./judging) shiai or kata tournament | B22: =IF(AND((SUMPRODUCT(--(POINTYEARS='Point Summary'!B$9),--(POINTCLASS='Judo Activity Log'!$I$17)+(POINTCLASS='Judo Activity Log'!$I$36),POINTSEARNED)>0),(B$9<>"")),SUMPRODUCT(--(POINTYEARS='Point Summary'!B$9),--(POINTCLASS='Judo Activity Log'!$I$17)+(POINTCLASS='Judo Activity Log'!$I$36),POINTSEARNED),"") | C22: =IF(AND((SUMPRODUCT(--(POINTYEARS='Point Summary'!C$9),--(POINTCLASS='Judo Activity Log'!$I$17)+(POINTCLASS='Judo Activity Log'!$I$36),POINTSEARNED)>0),(C$9<>"")),SUMPRODUCT(--(POINTYEARS='Point Summary'!C$9),--(POINTCLASS='Judo Activity Log'!$I$17)+(POINTCLASS='Judo Activity Log'!$I$36),POINTSEARNED),"") | D22: =IF(AND((SUMPRODUCT(--(POINTYEARS='Point Summary'!D$9),--(POINTCLASS='Judo Activity Log'!$I$17)+(POINTCLASS='Judo Activity Log'!$I$36),POINTSEARNED)>0),(D$9<>"")),SUMPRODUCT(--(POINTYEARS='Point Summary'!D$9),--(POINTCLASS='Judo Activity Log'!$I$17)+(POINTCLASS='Judo Activity Log'!$I$36),POINTSEARNED),"") | E22: =IF(AND((SUMPRODUCT(--(POINTYEARS='Point Summary'!E$9),--(POINTCLASS='Judo Activity Log'!$I$17)+(POINTCLASS='Judo Activity Log'!$I$36),POINTSEARNED)>0),(E$9<>"")),SUMPRODUCT(--(POINTYEARS='Point Summary'!E$9),--(POINTCLASS='Judo Activity Log'!$I$17)+(POINTCLASS='Judo Activity Log'!$I$36),POINTSEARNED),"") | F22: =IF(AND((SUMPRODUCT(--(POINTYEARS='Point Summary'!F$9),--(POINTCLASS='Judo Activity Log'!$I$17)+(POINTCLASS='Judo Activity Log'!$I$36),POINTSEARNED)>0),(F$9<>"")),SUMPRODUCT(--(POINTYEARS='Point Summary'!F$9),--(POINTCLASS='Judo Activity Log'!$I$17)+(POINTCLASS='Judo Activity Log'!$I$36),POINTSEARNED),"") | G22: =IF(AND((SUMPRODUCT(--(POINTYEARS='Point Summary'!G$9),--(POINTCLASS='Judo Activity Log'!$I$17)+(POINTCLASS='Judo Activity Log'!$I$36),POINTSEARNED)>0),(G$9<>"")),SUMPRODUCT(--(POINTYEARS='Point Summary'!G$9),--(POINTCLASS='Judo Activity Log'!$I$17)+(POINTCLASS='Judo Activity Log'!$I$36),POINTSEARNED),"") | H22: =IF(AND((SUMPRODUCT(--(POINTYEARS='Point Summary'!H$9),--(POINTCLASS='Judo Activity Log'!$I$17)+(POINTCLASS='Judo Activity Log'!$I$36),POINTSEARNED)>0),(H$9<>"")),SUMPRODUCT(--(POINTYEARS='Point Summary'!H$9),--(POINTCLASS='Judo Activity Log'!$I$17)+(POINTCLASS='Judo Activity Log'!$I$36),POINTSEARNED),"") | I22: =IF(AND((SUMPRODUCT(--(POINTYEARS='Point Summary'!I$9),--(POINTCLASS='Judo Activity Log'!$I$17)+(POINTCLASS='Judo Activity Log'!$I$36),POINTSEARNED)>0),(I$9<>"")),SUMPRODUCT(--(POINTYEARS='Point Summary'!I$9),--(POINTCLASS='Judo Activity Log'!$I$17)+(POINTCLASS='Judo Activity Log'!$I$36),POINTSEARNED),"") | ... V22: =IF(AND((SUMPRODUCT(--(POINTYEARS='Point Summary'!V$9),--(POINTCLASS='Judo Activity Log'!$I$17)+(POINTCLASS='Judo Activity Log'!$I$36),POINTSEARNED)>0),(V$9<>"")),SUMPRODUCT(--(POINTYEARS='Point Summary'!V$9),--(POINTCLASS='Judo Activity Log'!$I$17)+(POINTCLASS='Judo Activity Log'!$I$36),POINTSEARNED),"") | W22: =SUM(B22:V22) -> 0
A23: Head referee/kata judge | B23: =IF(AND((SUMPRODUCT(--(POINTYEARS='Point Summary'!B$9),--(POINTCLASS='Judo Activity Log'!$I$18),POINTSEARNED)>0),(B$9<>"")),SUMPRODUCT(--(POINTYEARS='Point Summary'!B$9),--(POINTCLASS='Judo Activity Log'!$I$18),POINTSEARNED),"") | C23: =IF(AND((SUMPRODUCT(--(POINTYEARS='Point Summary'!C$9),--(POINTCLASS='Judo Activity Log'!$I$18),POINTSEARNED)>0),(C$9<>"")),SUMPRODUCT(--(POINTYEARS='Point Summary'!C$9),--(POINTCLASS='Judo Activity Log'!$I$18),POINTSEARNED),"") | D23: =IF(AND((SUMPRODUCT(--(POINTYEARS='Point Summary'!D$9),--(POINTCLASS='Judo Activity Log'!$I$18),POINTSEARNED)>0),(D$9<>"")),SUMPRODUCT(--(POINTYEARS='Point Summary'!D$9),--(POINTCLASS='Judo Activity Log'!$I$18),POINTSEARNED),"") | E23: =IF(AND((SUMPRODUCT(--(POINTYEARS='Point Summary'!E$9),--(POINTCLASS='Judo Activity Log'!$I$18),POINTSEARNED)>0),(E$9<>"")),SUMPRODUCT(--(POINTYEARS='Point Summary'!E$9),--(POINTCLASS='Judo Activity Log'!$I$18),POINTSEARNED),"") | F23: =IF(AND((SUMPRODUCT(--(POINTYEARS='Point Summary'!F$9),--(POINTCLASS='Judo Activity Log'!$I$18),POINTSEARNED)>0),(F$9<>"")),SUMPRODUCT(--(POINTYEARS='Point Summary'!F$9),--(POINTCLASS='Judo Activity Log'!$I$18),POINTSEARNED),"") | G23: =IF(AND((SUMPRODUCT(--(POINTYEARS='Point Summary'!G$9),--(POINTCLASS='Judo Activity Log'!$I$18),POINTSEARNED)>0),(G$9<>"")),SUMPRODUCT(--(POINTYEARS='Point Summary'!G$9),--(POINTCLASS='Judo Activity Log'!$I$18),POINTSEARNED),"") | H23: =IF(AND((SUMPRODUCT(--(POINTYEARS='Point Summary'!H$9),--(POINTCLASS='Judo Activity Log'!$I$18),POINTSEARNED)>0),(H$9<>"")),SUMPRODUCT(--(POINTYEARS='Point Summary'!H$9),--(POINTCLASS='Judo Activity Log'!$I$18),POINTSEARNED),"") | I23: =IF(AND((SUMPRODUCT(--(POINTYEARS='Point Summary'!I$9),--(POINTCLASS='Judo Activity Log'!$I$18),POINTSEARNED)>0),(I$9<>"")),SUMPRODUCT(--(POINTYEARS='Point Summary'!I$9),--(POINTCLASS='Judo Activity Log'!$I$18),POINTSEARNED),"") | ... V23: =IF(AND((SUMPRODUCT(--(POINTYEARS='Point Summary'!V$9),--(POINTCLASS='Judo Activity Log'!$I$18),POINTSEARNED)>0),(V$9<>"")),SUMPRODUCT(--(POINTYEARS='Point Summary'!V$9),--(POINTCLASS='Judo Activity Log'!$I$18),POINTSEARNED),"") | W23: =SUM(B23:V23) -> 0
A24: Hosting/Directing tournament | B24: =IF(AND((SUMPRODUCT(--(POINTYEARS='Point Summary'!B$9),--(POINTCLASS='Judo Activity Log'!$I$19),POINTSEARNED)>0),(B$9<>"")),SUMPRODUCT(--(POINTYEARS='Point Summary'!B$9),--(POINTCLASS='Judo Activity Log'!$I$19),POINTSEARNED),"") | C24: =IF(AND((SUMPRODUCT(--(POINTYEARS='Point Summary'!C$9),--(POINTCLASS='Judo Activity Log'!$I$19),POINTSEARNED)>0),(C$9<>"")),SUMPRODUCT(--(POINTYEARS='Point Summary'!C$9),--(POINTCLASS='Judo Activity Log'!$I$19),POINTSEARNED),"") | D24: =IF(AND((SUMPRODUCT(--(POINTYEARS='Point Summary'!D$9),--(POINTCLASS='Judo Activity Log'!$I$19),POINTSEARNED)>0),(D$9<>"")),SUMPRODUCT(--(POINTYEARS='Point Summary'!D$9),--(POINTCLASS='Judo Activity Log'!$I$19),POINTSEARNED),"") | E24: =IF(AND((SUMPRODUCT(--(POINTYEARS='Point Summary'!E$9),--(POINTCLASS='Judo Activity Log'!$I$19),POINTSEARNED)>0),(E$9<>"")),SUMPRODUCT(--(POINTYEARS='Point Summary'!E$9),--(POINTCLASS='Judo Activity Log'!$I$19),POINTSEARNED),"") | F24: =IF(AND((SUMPRODUCT(--(POINTYEARS='Point Summary'!F$9),--(POINTCLASS='Judo Activity Log'!$I$19),POINTSEARNED)>0),(F$9<>"")),SUMPRODUCT(--(POINTYEARS='Point Summary'!F$9),--(POINTCLASS='Judo Activity Log'!$I$19),POINTSEARNED),"") | G24: =IF(AND((SUMPRODUCT(--(POINTYEARS='Point Summary'!G$9),--(POINTCLASS='Judo Activity Log'!$I$19),POINTSEARNED)>0),(G$9<>"")),SUMPRODUCT(--(POINTYEARS='Point Summary'!G$9),--(POINTCLASS='Judo Activity Log'!$I$19),POINTSEARNED),"") | H24: =IF(AND((SUMPRODUCT(--(POINTYEARS='Point Summary'!H$9),--(POINTCLASS='Judo Activity Log'!$I$19),POINTSEARNED)>0),(H$9<>"")),SUMPRODUCT(--(POINTYEARS='Point Summary'!H$9),--(POINTCLASS='Judo Activity Log'!$I$19),POINTSEARNED),"") | I24: =IF(AND((SUMPRODUCT(--(POINTYEARS='Point Summary'!I$9),--(POINTCLASS='Judo Activity Log'!$I$19),POINTSEARNED)>0),(I$9<>"")),SUMPRODUCT(--(POINTYEARS='Point Summary'!I$9),--(POINTCLASS='Judo Activity Log'!$I$19),POINTSEARNED),"") | ... V24: =IF(AND((SUMPRODUCT(--(POINTYEARS='Point Summary'!V$9),--(POINTCLASS='Judo Activity Log'!$I$19),POINTSEARNED)>0),(V$9<>"")),SUMPRODUCT(--(POINTYEARS='Point Summary'!V$9),--(POINTCLASS='Judo Activity Log'!$I$19),POINTSEARNED),"") | W24: =SUM(B24:V24) -> 0
A25: Assistant hosting/Directing tournament | B25: =IF(AND((SUMPRODUCT(--(POINTYEARS='Point Summary'!B$9),--(POINTCLASS='Judo Activity Log'!$I$20),POINTSEARNED)>0),(B$9<>"")),SUMPRODUCT(--(POINTYEARS='Point Summary'!B$9),--(POINTCLASS='Judo Activity Log'!$I$20),POINTSEARNED),"") | C25: =IF(AND((SUMPRODUCT(--(POINTYEARS='Point Summary'!C$9),--(POINTCLASS='Judo Activity Log'!$I$20),POINTSEARNED)>0),(C$9<>"")),SUMPRODUCT(--(POINTYEARS='Point Summary'!C$9),--(POINTCLASS='Judo Activity Log'!$I$20),POINTSEARNED),"") | D25: =IF(AND((SUMPRODUCT(--(POINTYEARS='Point Summary'!D$9),--(POINTCLASS='Judo Activity Log'!$I$20),POINTSEARNED)>0),(D$9<>"")),SUMPRODUCT(--(POINTYEARS='Point Summary'!D$9),--(POINTCLASS='Judo Activity Log'!$I$20),POINTSEARNED),"") | E25: =IF(AND((SUMPRODUCT(--(POINTYEARS='Point Summary'!E$9),--(POINTCLASS='Judo Activity Log'!$I$20),POINTSEARNED)>0),(E$9<>"")),SUMPRODUCT(--(POINTYEARS='Point Summary'!E$9),--(POINTCLASS='Judo Activity Log'!$I$20),POINTSEARNED),"") | F25: =IF(AND((SUMPRODUCT(--(POINTYEARS='Point Summary'!F$9),--(POINTCLASS='Judo Activity Log'!$I$20),POINTSEARNED)>0),(F$9<>"")),SUMPRODUCT(--(POINTYEARS='Point Summary'!F$9),--(POINTCLASS='Judo Activity Log'!$I$20),POINTSEARNED),"") | G25: =IF(AND((SUMPRODUCT(--(POINTYEARS='Point Summary'!G$9),--(POINTCLASS='Judo Activity Log'!$I$20),POINTSEARNED)>0),(G$9<>"")),SUMPRODUCT(--(POINTYEARS='Point Summary'!G$9),--(POINTCLASS='Judo Activity Log'!$I$20),POINTSEARNED),"") | H25: =IF(AND((SUMPRODUCT(--(POINTYEARS='Point Summary'!H$9),--(POINTCLASS='Judo Activity Log'!$I$20),POINTSEARNED)>0),(H$9<>"")),SUMPRODUCT(--(POINTYEARS='Point Summary'!H$9),--(POINTCLASS='Judo Activity Log'!$I$20),POINTSEARNED),"") | I25: =IF(AND((SUMPRODUCT(--(POINTYEARS='Point Summary'!I$9),--(POINTCLASS='Judo Activity Log'!$I$20),POINTSEARNED)>0),(I$9<>"")),SUMPRODUCT(--(POINTYEARS='Point Summary'!I$9),--(POINTCLASS='Judo Activity Log'!$I$20),POINTSEARNED),"") | ... V25: =IF(AND((SUMPRODUCT(--(POINTYEARS='Point Summary'!V$9),--(POINTCLASS='Judo Activity Log'!$I$20),POINTSEARNED)>0),(V$9<>"")),SUMPRODUCT(--(POINTYEARS='Point Summary'!V$9),--(POINTCLASS='Judo Activity Log'!$I$20),POINTSEARNED),"") | W25: =SUM(B25:V25) -> 0
A26: Coaching at a camp/clinic | B26: =IF(AND((SUMPRODUCT(--(POINTYEARS='Point Summary'!B$9),--(POINTCLASS='Judo Activity Log'!$I$21),POINTSEARNED)>0),(B$9<>"")),SUMPRODUCT(--(POINTYEARS='Point Summary'!B$9),--(POINTCLASS='Judo Activity Log'!$I$21),POINTSEARNED),"") | C26: =IF(AND((SUMPRODUCT(--(POINTYEARS='Point Summary'!C$9),--(POINTCLASS='Judo Activity Log'!$I$21),POINTSEARNED)>0),(C$9<>"")),SUMPRODUCT(--(POINTYEARS='Point Summary'!C$9),--(POINTCLASS='Judo Activity Log'!$I$21),POINTSEARNED),"") | D26: =IF(AND((SUMPRODUCT(--(POINTYEARS='Point Summary'!D$9),--(POINTCLASS='Judo Activity Log'!$I$21),POINTSEARNED)>0),(D$9<>"")),SUMPRODUCT(--(POINTYEARS='Point Summary'!D$9),--(POINTCLASS='Judo Activity Log'!$I$21),POINTSEARNED),"") | E26: =IF(AND((SUMPRODUCT(--(POINTYEARS='Point Summary'!E$9),--(POINTCLASS='Judo Activity Log'!$I$21),POINTSEARNED)>0),(E$9<>"")),SUMPRODUCT(--(POINTYEARS='Point Summary'!E$9),--(POINTCLASS='Judo Activity Log'!$I$21),POINTSEARNED),"") | F26: =IF(AND((SUMPRODUCT(--(POINTYEARS='Point Summary'!F$9),--(POINTCLASS='Judo Activity Log'!$I$21),POINTSEARNED)>0),(F$9<>"")),SUMPRODUCT(--(POINTYEARS='Point Summary'!F$9),--(POINTCLASS='Judo Activity Log'!$I$21),POINTSEARNED),"") | G26: =IF(AND((SUMPRODUCT(--(POINTYEARS='Point Summary'!G$9),--(POINTCLASS='Judo Activity Log'!$I$21),POINTSEARNED)>0),(G$9<>"")),SUMPRODUCT(--(POINTYEARS='Point Summary'!G$9),--(POINTCLASS='Judo Activity Log'!$I$21),POINTSEARNED),"") | H26: =IF(AND((SUMPRODUCT(--(POINTYEARS='Point Summary'!H$9),--(POINTCLASS='Judo Activity Log'!$I$21),POINTSEARNED)>0),(H$9<>"")),SUMPRODUCT(--(POINTYEARS='Point Summary'!H$9),--(POINTCLASS='Judo Activity Log'!$I$21),POINTSEARNED),"") | I26: =IF(AND((SUMPRODUCT(--(POINTYEARS='Point Summary'!I$9),--(POINTCLASS='Judo Activity Log'!$I$21),POINTSEARNED)>0),(I$9<>"")),SUMPRODUCT(--(POINTYEARS='Point Summary'!I$9),--(POINTCLASS='Judo Activity Log'!$I$21),POINTSEARNED),"") | ... V26: =IF(AND((SUMPRODUCT(--(POINTYEARS='Point Summary'!V$9),--(POINTCLASS='Judo Activity Log'!$I$21),POINTSEARNED)>0),(V$9<>"")),SUMPRODUCT(--(POINTYEARS='Point Summary'!V$9),--(POINTCLASS='Judo Activity Log'!$I$21),POINTSEARNED),"") | W26: =SUM(B26:V26) -> 0
A27: Hosting a camp/clinic | B27: =IF(AND((SUMPRODUCT(--(POINTYEARS='Point Summary'!B$9),--(POINTCLASS='Judo Activity Log'!$I$32),POINTSEARNED)>0),(B$9<>"")),SUMPRODUCT(--(POINTYEARS='Point Summary'!B$9),--(POINTCLASS='Judo Activity Log'!$I$32),POINTSEARNED),"") | C27: =IF(AND((SUMPRODUCT(--(POINTYEARS='Point Summary'!C$9),--(POINTCLASS='Judo Activity Log'!$I$32),POINTSEARNED)>0),(C$9<>"")),SUMPRODUCT(--(POINTYEARS='Point Summary'!C$9),--(POINTCLASS='Judo Activity Log'!$I$32),POINTSEARNED),"") | D27: =IF(AND((SUMPRODUCT(--(POINTYEARS='Point Summary'!D$9),--(POINTCLASS='Judo Activity Log'!$I$32),POINTSEARNED)>0),(D$9<>"")),SUMPRODUCT(--(POINTYEARS='Point Summary'!D$9),--(POINTCLASS='Judo Activity Log'!$I$32),POINTSEARNED),"") | E27: =IF(AND((SUMPRODUCT(--(POINTYEARS='Point Summary'!E$9),--(POINTCLASS='Judo Activity Log'!$I$32),POINTSEARNED)>0),(E$9<>"")),SUMPRODUCT(--(POINTYEARS='Point Summary'!E$9),--(POINTCLASS='Judo Activity Log'!$I$32),POINTSEARNED),"") | F27: =IF(AND((SUMPRODUCT(--(POINTYEARS='Point Summary'!F$9),--(POINTCLASS='Judo Activity Log'!$I$32),POINTSEARNED)>0),(F$9<>"")),SUMPRODUCT(--(POINTYEARS='Point Summary'!F$9),--(POINTCLASS='Judo Activity Log'!$I$32),POINTSEARNED),"") | G27: =IF(AND((SUMPRODUCT(--(POINTYEARS='Point Summary'!G$9),--(POINTCLASS='Judo Activity Log'!$I$32),POINTSEARNED)>0),(G$9<>"")),SUMPRODUCT(--(POINTYEARS='Point Summary'!G$9),--(POINTCLASS='Judo Activity Log'!$I$32),POINTSEARNED),"") | H27: =IF(AND((SUMPRODUCT(--(POINTYEARS='Point Summary'!H$9),--(POINTCLASS='Judo Activity Log'!$I$32),POINTSEARNED)>0),(H$9<>"")),SUMPRODUCT(--(POINTYEARS='Point Summary'!H$9),--(POINTCLASS='Judo Activity Log'!$I$32),POINTSEARNED),"") | I27: =IF(AND((SUMPRODUCT(--(POINTYEARS='Point Summary'!I$9),--(POINTCLASS='Judo Activity Log'!$I$32),POINTSEARNED)>0),(I$9<>"")),SUMPRODUCT(--(POINTYEARS='Point Summary'!I$9),--(POINTCLASS='Judo Activity Log'!$I$32),POINTSEARNED),"") | ... V27: =IF(AND((SUMPRODUCT(--(POINTYEARS='Point Summary'!V$9),--(POINTCLASS='Judo Activity Log'!$I$32),POINTSEARNED)>0),(V$9<>"")),SUMPRODUCT(--(POINTYEARS='Point Summary'!V$9),--(POINTCLASS='Judo Activity Log'!$I$32),POINTSEARNED),"") | W27: =SUM(B27:V27) -> 0
A28: Head Club Coach for USJA Chartered Club | B28: =IF(AND((SUMPRODUCT(--(POINTYEARS='Point Summary'!B$9),--(POINTCLASS='Judo Activity Log'!$I$22),POINTSEARNED)>0),(B$9<>"")),SUMPRODUCT(--(POINTYEARS='Point Summary'!B$9),--(POINTCLASS='Judo Activity Log'!$I$22),POINTSEARNED),"") | C28: =IF(AND((SUMPRODUCT(--(POINTYEARS='Point Summary'!C$9),--(POINTCLASS='Judo Activity Log'!$I$22),POINTSEARNED)>0),(C$9<>"")),SUMPRODUCT(--(POINTYEARS='Point Summary'!C$9),--(POINTCLASS='Judo Activity Log'!$I$22),POINTSEARNED),"") | D28: =IF(AND((SUMPRODUCT(--(POINTYEARS='Point Summary'!D$9),--(POINTCLASS='Judo Activity Log'!$I$22),POINTSEARNED)>0),(D$9<>"")),SUMPRODUCT(--(POINTYEARS='Point Summary'!D$9),--(POINTCLASS='Judo Activity Log'!$I$22),POINTSEARNED),"") | E28: =IF(AND((SUMPRODUCT(--(POINTYEARS='Point Summary'!E$9),--(POINTCLASS='Judo Activity Log'!$I$22),POINTSEARNED)>0),(E$9<>"")),SUMPRODUCT(--(POINTYEARS='Point Summary'!E$9),--(POINTCLASS='Judo Activity Log'!$I$22),POINTSEARNED),"") | F28: =IF(AND((SUMPRODUCT(--(POINTYEARS='Point Summary'!F$9),--(POINTCLASS='Judo Activity Log'!$I$22),POINTSEARNED)>0),(F$9<>"")),SUMPRODUCT(--(POINTYEARS='Point Summary'!F$9),--(POINTCLASS='Judo Activity Log'!$I$22),POINTSEARNED),"") | G28: =IF(AND((SUMPRODUCT(--(POINTYEARS='Point Summary'!G$9),--(POINTCLASS='Judo Activity Log'!$I$22),POINTSEARNED)>0),(G$9<>"")),SUMPRODUCT(--(POINTYEARS='Point Summary'!G$9),--(POINTCLASS='Judo Activity Log'!$I$22),POINTSEARNED),"") | H28: =IF(AND((SUMPRODUCT(--(POINTYEARS='Point Summary'!H$9),--(POINTCLASS='Judo Activity Log'!$I$22),POINTSEARNED)>0),(H$9<>"")),SUMPRODUCT(--(POINTYEARS='Point Summary'!H$9),--(POINTCLASS='Judo Activity Log'!$I$22),POINTSEARNED),"") | I28: =IF(AND((SUMPRODUCT(--(POINTYEARS='Point Summary'!I$9),--(POINTCLASS='Judo Activity Log'!$I$22),POINTSEARNED)>0),(I$9<>"")),SUMPRODUCT(--(POINTYEARS='Point Summary'!I$9),--(POINTCLASS='Judo Activity Log'!$I$22),POINTSEARNED),"") | ... V28: =IF(AND((SUMPRODUCT(--(POINTYEARS='Point Summary'!V$9),--(POINTCLASS='Judo Activity Log'!$I$22),POINTSEARNED)>0),(V$9<>"")),SUMPRODUCT(--(POINTYEARS='Point Summary'!V$9),--(POINTCLASS='Judo Activity Log'!$I$22),POINTSEARNED),"") | W28: =SUM(B28:V28) -> 0
A29: Assistant Club Coach | B29: =IF(AND((SUMPRODUCT(--(POINTYEARS='Point Summary'!B$9),--(POINTCLASS='Judo Activity Log'!$I$23),POINTSEARNED)>0),(B$9<>"")),SUMPRODUCT(--(POINTYEARS='Point Summary'!B$9),--(POINTCLASS='Judo Activity Log'!$I$23),POINTSEARNED),"") | C29: =IF(AND((SUMPRODUCT(--(POINTYEARS='Point Summary'!C$9),--(POINTCLASS='Judo Activity Log'!$I$23),POINTSEARNED)>0),(C$9<>"")),SUMPRODUCT(--(POINTYEARS='Point Summary'!C$9),--(POINTCLASS='Judo Activity Log'!$I$23),POINTSEARNED),"") | D29: =IF(AND((SUMPRODUCT(--(POINTYEARS='Point Summary'!D$9),--(POINTCLASS='Judo Activity Log'!$I$23),POINTSEARNED)>0),(D$9<>"")),SUMPRODUCT(--(POINTYEARS='Point Summary'!D$9),--(POINTCLASS='Judo Activity Log'!$I$23),POINTSEARNED),"") | E29: =IF(AND((SUMPRODUCT(--(POINTYEARS='Point Summary'!E$9),--(POINTCLASS='Judo Activity Log'!$I$23),POINTSEARNED)>0),(E$9<>"")),SUMPRODUCT(--(POINTYEARS='Point Summary'!E$9),--(POINTCLASS='Judo Activity Log'!$I$23),POINTSEARNED),"") | F29: =IF(AND((SUMPRODUCT(--(POINTYEARS='Point Summary'!F$9),--(POINTCLASS='Judo Activity Log'!$I$23),POINTSEARNED)>0),(F$9<>"")),SUMPRODUCT(--(POINTYEARS='Point Summary'!F$9),--(POINTCLASS='Judo Activity Log'!$I$23),POINTSEARNED),"") | G29: =IF(AND((SUMPRODUCT(--(POINTYEARS='Point Summary'!G$9),--(POINTCLASS='Judo Activity Log'!$I$23),POINTSEARNED)>0),(G$9<>"")),SUMPRODUCT(--(POINTYEARS='Point Summary'!G$9),--(POINTCLASS='Judo Activity Log'!$I$23),POINTSEARNED),"") | H29: =IF(AND((SUMPRODUCT(--(POINTYEARS='Point Summary'!H$9),--(POINTCLASS='Judo Activity Log'!$I$23),POINTSEARNED)>0),(H$9<>"")),SUMPRODUCT(--(POINTYEARS='Point Summary'!H$9),--(POINTCLASS='Judo Activity Log'!$I$23),POINTSEARNED),"") | I29: =IF(AND((SUMPRODUCT(--(POINTYEARS='Point Summary'!I$9),--(POINTCLASS='Judo Activity Log'!$I$23),POINTSEARNED)>0),(I$9<>"")),SUMPRODUCT(--(POINTYEARS='Point Summary'!I$9),--(POINTCLASS='Judo Activity Log'!$I$23),POINTSEARNED),"") | ... V29: =IF(AND((SUMPRODUCT(--(POINTYEARS='Point Summary'!V$9),--(POINTCLASS='Judo Activity Log'!$I$23),POINTSEARNED)>0),(V$9<>"")),SUMPRODUCT(--(POINTYEARS='Point Summary'!V$9),--(POINTCLASS='Judo Activity Log'!$I$23),POINTSEARNED),"") | W29: =SUM(B29:V29) -> 0
A30: Coaching Champion Competitors | B30: =IF(AND((SUMPRODUCT(--(POINTYEARS='Point Summary'!B$9),--(POINTCLASS='Judo Activity Log'!$I$24),POINTSEARNED)>0),(B$9<>"")),SUMPRODUCT(--(POINTYEARS='Point Summary'!B$9),--(POINTCLASS='Judo Activity Log'!$I$24),POINTSEARNED),"") | C30: =IF(AND((SUMPRODUCT(--(POINTYEARS='Point Summary'!C$9),--(POINTCLASS='Judo Activity Log'!$I$24),POINTSEARNED)>0),(C$9<>"")),SUMPRODUCT(--(POINTYEARS='Point Summary'!C$9),--(POINTCLASS='Judo Activity Log'!$I$24),POINTSEARNED),"") | D30: =IF(AND((SUMPRODUCT(--(POINTYEARS='Point Summary'!D$9),--(POINTCLASS='Judo Activity Log'!$I$24),POINTSEARNED)>0),(D$9<>"")),SUMPRODUCT(--(POINTYEARS='Point Summary'!D$9),--(POINTCLASS='Judo Activity Log'!$I$24),POINTSEARNED),"") | E30: =IF(AND((SUMPRODUCT(--(POINTYEARS='Point Summary'!E$9),--(POINTCLASS='Judo Activity Log'!$I$24),POINTSEARNED)>0),(E$9<>"")),SUMPRODUCT(--(POINTYEARS='Point Summary'!E$9),--(POINTCLASS='Judo Activity Log'!$I$24),POINTSEARNED),"") | F30: =IF(AND((SUMPRODUCT(--(POINTYEARS='Point Summary'!F$9),--(POINTCLASS='Judo Activity Log'!$I$24),POINTSEARNED)>0),(F$9<>"")),SUMPRODUCT(--(POINTYEARS='Point Summary'!F$9),--(POINTCLASS='Judo Activity Log'!$I$24),POINTSEARNED),"") | G30: =IF(AND((SUMPRODUCT(--(POINTYEARS='Point Summary'!G$9),--(POINTCLASS='Judo Activity Log'!$I$24),POINTSEARNED)>0),(G$9<>"")),SUMPRODUCT(--(POINTYEARS='Point Summary'!G$9),--(POINTCLASS='Judo Activity Log'!$I$24),POINTSEARNED),"") | H30: =IF(AND((SUMPRODUCT(--(POINTYEARS='Point Summary'!H$9),--(POINTCLASS='Judo Activity Log'!$I$24),POINTSEARNED)>0),(H$9<>"")),SUMPRODUCT(--(POINTYEARS='Point Summary'!H$9),--(POINTCLASS='Judo Activity Log'!$I$24),POINTSEARNED),"") | I30: =IF(AND((SUMPRODUCT(--(POINTYEARS='Point Summary'!I$9),--(POINTCLASS='Judo Activity Log'!$I$24),POINTSEARNED)>0),(I$9<>"")),SUMPRODUCT(--(POINTYEARS='Point Summary'!I$9),--(POINTCLASS='Judo Activity Log'!$I$24),POINTSEARNED),"") | ... V30: =IF(AND((SUMPRODUCT(--(POINTYEARS='Point Summary'!V$9),--(POINTCLASS='Judo Activity Log'!$I$24),POINTSEARNED)>0),(V$9<>"")),SUMPRODUCT(--(POINTYEARS='Point Summary'!V$9),--(POINTCLASS='Judo Activity Log'!$I$24),POINTSEARNED),"") | W30: =SUM(B30:V30) -> 0
A31: US Team Coach/Manager | B31: =IF(AND((SUMPRODUCT(--(POINTYEARS='Point Summary'!B$9),--(POINTCLASS='Judo Activity Log'!$I$25),POINTSEARNED)>0),(B$9<>"")),SUMPRODUCT(--(POINTYEARS='Point Summary'!B$9),--(POINTCLASS='Judo Activity Log'!$I$25),POINTSEARNED),"") | C31: =IF(AND((SUMPRODUCT(--(POINTYEARS='Point Summary'!C$9),--(POINTCLASS='Judo Activity Log'!$I$25),POINTSEARNED)>0),(C$9<>"")),SUMPRODUCT(--(POINTYEARS='Point Summary'!C$9),--(POINTCLASS='Judo Activity Log'!$I$25),POINTSEARNED),"") | D31: =IF(AND((SUMPRODUCT(--(POINTYEARS='Point Summary'!D$9),--(POINTCLASS='Judo Activity Log'!$I$25),POINTSEARNED)>0),(D$9<>"")),SUMPRODUCT(--(POINTYEARS='Point Summary'!D$9),--(POINTCLASS='Judo Activity Log'!$I$25),POINTSEARNED),"") | E31: =IF(AND((SUMPRODUCT(--(POINTYEARS='Point Summary'!E$9),--(POINTCLASS='Judo Activity Log'!$I$25),POINTSEARNED)>0),(E$9<>"")),SUMPRODUCT(--(POINTYEARS='Point Summary'!E$9),--(POINTCLASS='Judo Activity Log'!$I$25),POINTSEARNED),"") | F31: =IF(AND((SUMPRODUCT(--(POINTYEARS='Point Summary'!F$9),--(POINTCLASS='Judo Activity Log'!$I$25),POINTSEARNED)>0),(F$9<>"")),SUMPRODUCT(--(POINTYEARS='Point Summary'!F$9),--(POINTCLASS='Judo Activity Log'!$I$25),POINTSEARNED),"") | G31: =IF(AND((SUMPRODUCT(--(POINTYEARS='Point Summary'!G$9),--(POINTCLASS='Judo Activity Log'!$I$25),POINTSEARNED)>0),(G$9<>"")),SUMPRODUCT(--(POINTYEARS='Point Summary'!G$9),--(POINTCLASS='Judo Activity Log'!$I$25),POINTSEARNED),"") | H31: =IF(AND((SUMPRODUCT(--(POINTYEARS='Point Summary'!H$9),--(POINTCLASS='Judo Activity Log'!$I$25),POINTSEARNED)>0),(H$9<>"")),SUMPRODUCT(--(POINTYEARS='Point Summary'!H$9),--(POINTCLASS='Judo Activity Log'!$I$25),POINTSEARNED),"") | I31: =IF(AND((SUMPRODUCT(--(POINTYEARS='Point Summary'!I$9),--(POINTCLASS='Judo Activity Log'!$I$25),POINTSEARNED)>0),(I$9<>"")),SUMPRODUCT(--(POINTYEARS='Point Summary'!I$9),--(POINTCLASS='Judo Activity Log'!$I$25),POINTSEARNED),"") | ... V31: =IF(AND((SUMPRODUCT(--(POINTYEARS='Point Summary'!V$9),--(POINTCLASS='Judo Activity Log'!$I$25),POINTSEARNED)>0),(V$9<>"")),SUMPRODUCT(--(POINTYEARS='Point Summary'!V$9),--(POINTCLASS='Judo Activity Log'!$I$25),POINTSEARNED),"") | W31: =SUM(B31:V31) -> 0
